BEGIN:VCALENDAR
PRODID:-//Microsoft Corporation//Outlook 12.0 MIMEDIR//EN
VERSION:2.0
CALSCALE:GREGORIAN
BEGIN:VEVENT
UID: b5591db6-c964-4419-9b1c-2ef4569cc2d4
SUMMARY:Igaüks on oma loo peategelane 
DTSTAMP:20251016
DTSTART:20251016
DTEND:20251017
DURATION:P1D
LOCATION:Pöide Kool
DESCRIPTION: <p><span style="-webkit-text-stroke-width:0px;background-color:rgb(255, 255, 255);color:rgb(66, 66, 66);display:inline !important;float:none;font-family:&quot;Segoe UI&quot;, &quot;Segoe UI Web (West European)&quot;, -apple-system, BlinkMacSystemFont, Roboto, &quot;Helvetica Neue&quot;, sans-serif;font-size:14px;font-style:normal;font-variant-caps:normal;font-variant-ligatures:normal;font-weight:400;letter-spacing:normal;orphans:2;text-align:start;text-decoration-color:initial;text-decoration-style:initial;text-decoration-thickness:initial;text-indent:0px;text-transform:none;white-space:normal;widows:2;word-spacing:0px;">Igaüks on oma loo peategelane - koolituspäevad kogukonnas.</span></p><p><strong>Link: </strong>https://poide.edu.ee/et/koolituste-kalender/igauks-oma-loo-peategelane</p><p><strong>Hind: </strong></p>
STATUS:CONFIRMED
SEQUENCE:3
X-ALT-DESC;FMTTYPE=text/html:<p><span style="-webkit-text-stroke-width:0px;background-color:rgb(255, 255, 255);color:rgb(66, 66, 66);display:inline !important;float:none;font-family:&quot;Segoe UI&quot;, &quot;Segoe UI Web (West European)&quot;, -apple-system, BlinkMacSystemFont, Roboto, &quot;Helvetica Neue&quot;, sans-serif;font-size:14px;font-style:normal;font-variant-caps:normal;font-variant-ligatures:normal;font-weight:400;letter-spacing:normal;orphans:2;text-align:start;text-decoration-color:initial;text-decoration-style:initial;text-decoration-thickness:initial;text-indent:0px;text-transform:none;white-space:normal;widows:2;word-spacing:0px;">Igaüks on oma loo peategelane - koolituspäevad kogukonnas.</span></p><p><strong>Link: </strong>https://poide.edu.ee/et/koolituste-kalender/igauks-oma-loo-peategelane</p><p><strong>Hind: </strong></p>
X-MICROSOFT-CDO-BUSYSTATUS:OOF
X-MICROSOFT-CDO-IMPORTANCE:1
X-MICROSOFT-DISALLOW-COUNTER:FALSE
X-MS-OLK-ALLOWEXTERNCHECK:TRUE
X-MS-OLK-CONFTYPE:0
X-MICROSOFT-CDO-ALLDAYEVENT:1
X-MICROSOFT-MSNCALENDAR-ALLDAYEVENT:1
END:VEVENT
END:VCALENDAR